BEGIN:VCALENDAR
VERSION:2.0
PRODID:-//Pine Tree Quilt Guild of Nevada County - ECPv6.15.20//NONSGML v1.0//EN
CALSCALE:GREGORIAN
METHOD:PUBLISH
X-WR-CALNAME:Pine Tree Quilt Guild of Nevada County
X-ORIGINAL-URL:https://pinetreequiltguild.com
X-WR-CALDESC:Events for Pine Tree Quilt Guild of Nevada County
REFRESH-INTERVAL;VALUE=DURATION:PT1H
X-Robots-Tag:noindex
X-PUBLISHED-TTL:PT1H
BEGIN:VTIMEZONE
TZID:America/Los_Angeles
BEGIN:DAYLIGHT
TZOFFSETFROM:-0800
TZOFFSETTO:-0700
TZNAME:PDT
DTSTART:20230312T100000
END:DAYLIGHT
BEGIN:STANDARD
TZOFFSETFROM:-0700
TZOFFSETTO:-0800
TZNAME:PST
DTSTART:20231105T090000
END:STANDARD
BEGIN:DAYLIGHT
TZOFFSETFROM:-0800
TZOFFSETTO:-0700
TZNAME:PDT
DTSTART:20240310T100000
END:DAYLIGHT
BEGIN:STANDARD
TZOFFSETFROM:-0700
TZOFFSETTO:-0800
TZNAME:PST
DTSTART:20241103T090000
END:STANDARD
BEGIN:DAYLIGHT
TZOFFSETFROM:-0800
TZOFFSETTO:-0700
TZNAME:PDT
DTSTART:20250309T100000
END:DAYLIGHT
BEGIN:STANDARD
TZOFFSETFROM:-0700
TZOFFSETTO:-0800
TZNAME:PST
DTSTART:20251102T090000
END:STANDARD
BEGIN:DAYLIGHT
TZOFFSETFROM:-0800
TZOFFSETTO:-0700
TZNAME:PDT
DTSTART:20260308T100000
END:DAYLIGHT
BEGIN:STANDARD
TZOFFSETFROM:-0700
TZOFFSETTO:-0800
TZNAME:PST
DTSTART:20261101T090000
END:STANDARD
END:VTIMEZONE
BEGIN:VEVENT
DTSTART;TZID=America/Los_Angeles:20250204T180000
DTEND;TZID=America/Los_Angeles:20250204T200000
DTSTAMP:20260425T120639
CREATED:20240421T231200Z
LAST-MODIFIED:20241013T001140Z
UID:10000377-1738692000-1738699200@pinetreequiltguild.com
SUMMARY:!! NEW TIME!! General Meeting with Speaker Julia McLeod
DESCRIPTION:The board has decided to try a new time from January to April. Doors open at 5:30. Meeting starts at 6:oo. \nSpeaker Topic: Rescue Me – “incorporating old and neglected materials into new quilts.”
URL:https://pinetreequiltguild.com/event/general-meeting-with-speaker-julia-mcleod/
LOCATION:Grass Valley Charter School\, 255 S. Auburn\, Grass Valley\, CA\, 95945\, United States
ORGANIZER;CN="Jeanne Pincha-Tulley":MAILTO:jpinchatulley@gmail.com
GEO:39.214292;-121.0611449
X-APPLE-STRUCTURED-LOCATION;VALUE=URI;X-ADDRESS=Grass Valley Charter School 255 S. Auburn Grass Valley CA 95945 United States;X-APPLE-RADIUS=500;X-TITLE=255 S. Auburn:geo:-121.0611449,39.214292
END:VEVENT
BEGIN:VEVENT
DTSTART;TZID=America/Los_Angeles:20250107T180000
DTEND;TZID=America/Los_Angeles:20250107T200000
DTSTAMP:20260425T120639
CREATED:20241012T183212Z
LAST-MODIFIED:20241012T183212Z
UID:10000395-1736272800-1736280000@pinetreequiltguild.com
SUMMARY:NEW TIME! Guild Monthly General Meeting
DESCRIPTION:January through April 2025 we will be trying a new time for our General Meeting. \nDoors open at 5:30pm\nMeeting starts at 6:00pm
URL:https://pinetreequiltguild.com/event/new-time-guild-monthly-general-meeting/
LOCATION:Grass Valley Charter School\, 255 S. Auburn\, Grass Valley\, CA\, 95945\, United States
CATEGORIES:General Meeting,Meetings
ORGANIZER;CN="Jeanne Pincha-Tulley":MAILTO:jpinchatulley@gmail.com
GEO:39.214292;-121.0611449
X-APPLE-STRUCTURED-LOCATION;VALUE=URI;X-ADDRESS=Grass Valley Charter School 255 S. Auburn Grass Valley CA 95945 United States;X-APPLE-RADIUS=500;X-TITLE=255 S. Auburn:geo:-121.0611449,39.214292
END:VEVENT
BEGIN:VEVENT
DTSTART;TZID=America/Los_Angeles:20241105T183000
DTEND;TZID=America/Los_Angeles:20241105T203000
DTSTAMP:20260425T120639
CREATED:20240415T011324Z
LAST-MODIFIED:20241012T161726Z
UID:10000223-1730831400-1730838600@pinetreequiltguild.com
SUMMARY:Guild Monthly General Meeting with Speaker
DESCRIPTION:Our speaker is Heidi Emmett – Quilting Art to Wear\nDoors open at 6:00 pm\nMeeting starts 6:30 pm
URL:https://pinetreequiltguild.com/event/guild-monthly-general-meeting-5/
LOCATION:Grass Valley Charter School\, 255 S. Auburn\, Grass Valley\, CA\, 95945\, United States
ORGANIZER;CN="Jeanne Pincha-Tulley":MAILTO:jpinchatulley@gmail.com
GEO:39.214292;-121.0611449
X-APPLE-STRUCTURED-LOCATION;VALUE=URI;X-ADDRESS=Grass Valley Charter School 255 S. Auburn Grass Valley CA 95945 United States;X-APPLE-RADIUS=500;X-TITLE=255 S. Auburn:geo:-121.0611449,39.214292
END:VEVENT
BEGIN:VEVENT
DTSTART;TZID=America/Los_Angeles:20241001T183000
DTEND;TZID=America/Los_Angeles:20241001T203000
DTSTAMP:20260425T120639
CREATED:20240209T224458Z
LAST-MODIFIED:20240209T224458Z
UID:10000222-1727807400-1727814600@pinetreequiltguild.com
SUMMARY:Guild Monthly General Meeting
DESCRIPTION:Doors open at 6:00 pm\nMeeting starts 6:30 pm
URL:https://pinetreequiltguild.com/event/guild-monthly-general-meeting/2024-10-01/
LOCATION:Grass Valley Charter School\, 255 S. Auburn\, Grass Valley\, CA\, 95945\, United States
ORGANIZER;CN="Jeanne Pincha-Tulley":MAILTO:jpinchatulley@gmail.com
GEO:39.214292;-121.0611449
X-APPLE-STRUCTURED-LOCATION;VALUE=URI;X-ADDRESS=Grass Valley Charter School 255 S. Auburn Grass Valley CA 95945 United States;X-APPLE-RADIUS=500;X-TITLE=255 S. Auburn:geo:-121.0611449,39.214292
END:VEVENT
BEGIN:VEVENT
DTSTART;TZID=America/Los_Angeles:20240903T183000
DTEND;TZID=America/Los_Angeles:20240903T203000
DTSTAMP:20260425T120639
CREATED:20240415T005930Z
LAST-MODIFIED:20240415T010009Z
UID:10000221-1725388200-1725395400@pinetreequiltguild.com
SUMMARY:Guild Monthly General Meeting
DESCRIPTION:Speaker:  Colleen Granger “Quilting is Cheaper than Therapy!”\nDoors open at 6:00 pm\nMeeting starts 6:30 pm
URL:https://pinetreequiltguild.com/event/guild-monthly-general-meeting-4/
LOCATION:Grass Valley Charter School\, 255 S. Auburn\, Grass Valley\, CA\, 95945\, United States
ORGANIZER;CN="Jeanne Pincha-Tulley":MAILTO:jpinchatulley@gmail.com
GEO:39.214292;-121.0611449
X-APPLE-STRUCTURED-LOCATION;VALUE=URI;X-ADDRESS=Grass Valley Charter School 255 S. Auburn Grass Valley CA 95945 United States;X-APPLE-RADIUS=500;X-TITLE=255 S. Auburn:geo:-121.0611449,39.214292
END:VEVENT
BEGIN:VEVENT
DTSTART;TZID=America/Los_Angeles:20240903T183000
DTEND;TZID=America/Los_Angeles:20240903T203000
DTSTAMP:20260425T120639
CREATED:20240209T224458Z
LAST-MODIFIED:20240209T224458Z
UID:10000409-1725388200-1725395400@pinetreequiltguild.com
SUMMARY:Guild Monthly General Meeting
DESCRIPTION:Doors open at 6:00 pm\nMeeting starts 6:30 pm
URL:https://pinetreequiltguild.com/event/guild-monthly-general-meeting/2024-09-03/
LOCATION:Grass Valley Charter School\, 255 S. Auburn\, Grass Valley\, CA\, 95945\, United States
ORGANIZER;CN="Jeanne Pincha-Tulley":MAILTO:jpinchatulley@gmail.com
GEO:39.214292;-121.0611449
X-APPLE-STRUCTURED-LOCATION;VALUE=URI;X-ADDRESS=Grass Valley Charter School 255 S. Auburn Grass Valley CA 95945 United States;X-APPLE-RADIUS=500;X-TITLE=255 S. Auburn:geo:-121.0611449,39.214292
END:VEVENT
BEGIN:VEVENT
DTSTART;TZID=America/Los_Angeles:20240604T183000
DTEND;TZID=America/Los_Angeles:20240604T203000
DTSTAMP:20260425T120639
CREATED:20240209T224458Z
LAST-MODIFIED:20240209T224458Z
UID:10000408-1717525800-1717533000@pinetreequiltguild.com
SUMMARY:Guild Monthly General Meeting
DESCRIPTION:Doors open at 6:00 pm\nMeeting starts 6:30 pm
URL:https://pinetreequiltguild.com/event/guild-monthly-general-meeting/2024-06-04/
LOCATION:Grass Valley Charter School\, 255 S. Auburn\, Grass Valley\, CA\, 95945\, United States
ORGANIZER;CN="Jeanne Pincha-Tulley":MAILTO:jpinchatulley@gmail.com
GEO:39.214292;-121.0611449
X-APPLE-STRUCTURED-LOCATION;VALUE=URI;X-ADDRESS=Grass Valley Charter School 255 S. Auburn Grass Valley CA 95945 United States;X-APPLE-RADIUS=500;X-TITLE=255 S. Auburn:geo:-121.0611449,39.214292
END:VEVENT
BEGIN:VEVENT
DTSTART;TZID=America/Los_Angeles:20240507T183000
DTEND;TZID=America/Los_Angeles:20240507T203000
DTSTAMP:20260425T120639
CREATED:20240209T224458Z
LAST-MODIFIED:20240209T224458Z
UID:10000407-1715106600-1715113800@pinetreequiltguild.com
SUMMARY:Guild Monthly General Meeting
DESCRIPTION:Doors open at 6:00 pm\nMeeting starts 6:30 pm
URL:https://pinetreequiltguild.com/event/guild-monthly-general-meeting/2024-05-07/
LOCATION:Grass Valley Charter School\, 255 S. Auburn\, Grass Valley\, CA\, 95945\, United States
ORGANIZER;CN="Jeanne Pincha-Tulley":MAILTO:jpinchatulley@gmail.com
GEO:39.214292;-121.0611449
X-APPLE-STRUCTURED-LOCATION;VALUE=URI;X-ADDRESS=Grass Valley Charter School 255 S. Auburn Grass Valley CA 95945 United States;X-APPLE-RADIUS=500;X-TITLE=255 S. Auburn:geo:-121.0611449,39.214292
END:VEVENT
END:VCALENDAR