BEGIN:VCALENDAR
VERSION:2.0
PRODID:-//Pine Tree Quilt Guild of Nevada County - ECPv6.15.20//NONSGML v1.0//EN
CALSCALE:GREGORIAN
METHOD:PUBLISH
X-ORIGINAL-URL:https://pinetreequiltguild.com
X-WR-CALDESC:Events for Pine Tree Quilt Guild of Nevada County
REFRESH-INTERVAL;VALUE=DURATION:PT1H
X-Robots-Tag:noindex
X-PUBLISHED-TTL:PT1H
BEGIN:VTIMEZONE
TZID:America/Los_Angeles
BEGIN:DAYLIGHT
TZOFFSETFROM:-0800
TZOFFSETTO:-0700
TZNAME:PDT
DTSTART:20230312T100000
END:DAYLIGHT
BEGIN:STANDARD
TZOFFSETFROM:-0700
TZOFFSETTO:-0800
TZNAME:PST
DTSTART:20231105T090000
END:STANDARD
BEGIN:DAYLIGHT
TZOFFSETFROM:-0800
TZOFFSETTO:-0700
TZNAME:PDT
DTSTART:20240310T100000
END:DAYLIGHT
BEGIN:STANDARD
TZOFFSETFROM:-0700
TZOFFSETTO:-0800
TZNAME:PST
DTSTART:20241103T090000
END:STANDARD
BEGIN:DAYLIGHT
TZOFFSETFROM:-0800
TZOFFSETTO:-0700
TZNAME:PDT
DTSTART:20250309T100000
END:DAYLIGHT
BEGIN:STANDARD
TZOFFSETFROM:-0700
TZOFFSETTO:-0800
TZNAME:PST
DTSTART:20251102T090000
END:STANDARD
END:VTIMEZONE
BEGIN:VEVENT
DTSTART;TZID=America/Los_Angeles:20240801T090000
DTEND;TZID=America/Los_Angeles:20240801T130000
DTSTAMP:20260419T084236
CREATED:20240304T005324Z
LAST-MODIFIED:20240304T005324Z
UID:10000240-1722502800-1722517200@pinetreequiltguild.com
SUMMARY:Community Service
DESCRIPTION:
URL:https://pinetreequiltguild.com/event/community-service-9/2024-08-01/
LOCATION:Nevada County Historical Society
CATEGORIES:Activities,Community Service
END:VEVENT
BEGIN:VEVENT
DTSTART;VALUE=DATE:20240807
DTEND;VALUE=DATE:20240812
DTSTAMP:20260419T084236
CREATED:20240604T231154Z
LAST-MODIFIED:20240604T231154Z
UID:10000385-1722988800-1723420799@pinetreequiltguild.com
SUMMARY:2024 Nevada County Fair
DESCRIPTION:Come to the Fair to see the quilts!\nThank you to all those who are White Glove Volunteers!
URL:https://pinetreequiltguild.com/event/2024-nevada-county-fair/
LOCATION:Nevada County Fairgrounds\, CA\, United States
CATEGORIES:NC Fair
ORGANIZER;CN="Holly Miner":MAILTO:hollyminer@aol.com
END:VEVENT
BEGIN:VEVENT
DTSTART;TZID=America/Los_Angeles:20240822T090000
DTEND;TZID=America/Los_Angeles:20240822T140000
DTSTAMP:20260419T084236
CREATED:20240201T214210Z
LAST-MODIFIED:20240220T195537Z
UID:10000230-1724317200-1724335200@pinetreequiltguild.com
SUMMARY:Quilting 101
DESCRIPTION:
URL:https://pinetreequiltguild.com/event/community-service-7/2024-08-22/
LOCATION:Sierra Presbyterian Church\, 175 Ridge Road\, Nevada City
CATEGORIES:Activities,Quilting 101
GEO:39.2484934;-121.0267459
X-APPLE-STRUCTURED-LOCATION;VALUE=URI;X-ADDRESS=Sierra Presbyterian Church 175 Ridge Road Nevada City;X-APPLE-RADIUS=500;X-TITLE=175 Ridge Road:geo:-121.0267459,39.2484934
END:VEVENT
END:VCALENDAR