BEGIN:VCALENDAR
VERSION:2.0
PRODID:-//Pine Tree Quilt Guild of Nevada County - ECPv6.15.20//NONSGML v1.0//EN
CALSCALE:GREGORIAN
METHOD:PUBLISH
X-ORIGINAL-URL:https://pinetreequiltguild.com
X-WR-CALDESC:Events for Pine Tree Quilt Guild of Nevada County
REFRESH-INTERVAL;VALUE=DURATION:PT1H
X-Robots-Tag:noindex
X-PUBLISHED-TTL:PT1H
BEGIN:VTIMEZONE
TZID:America/Los_Angeles
BEGIN:DAYLIGHT
TZOFFSETFROM:-0800
TZOFFSETTO:-0700
TZNAME:PDT
DTSTART:20230312T100000
END:DAYLIGHT
BEGIN:STANDARD
TZOFFSETFROM:-0700
TZOFFSETTO:-0800
TZNAME:PST
DTSTART:20231105T090000
END:STANDARD
BEGIN:DAYLIGHT
TZOFFSETFROM:-0800
TZOFFSETTO:-0700
TZNAME:PDT
DTSTART:20240310T100000
END:DAYLIGHT
BEGIN:STANDARD
TZOFFSETFROM:-0700
TZOFFSETTO:-0800
TZNAME:PST
DTSTART:20241103T090000
END:STANDARD
BEGIN:DAYLIGHT
TZOFFSETFROM:-0800
TZOFFSETTO:-0700
TZNAME:PDT
DTSTART:20250309T100000
END:DAYLIGHT
BEGIN:STANDARD
TZOFFSETFROM:-0700
TZOFFSETTO:-0800
TZNAME:PST
DTSTART:20251102T090000
END:STANDARD
END:VTIMEZONE
BEGIN:VEVENT
DTSTART;TZID=America/Los_Angeles:20240722T130000
DTEND;TZID=America/Los_Angeles:20240722T180000
DTSTAMP:20260419T101310
CREATED:20240604T225956Z
LAST-MODIFIED:20240716T163714Z
UID:10000383-1721653200-1721671200@pinetreequiltguild.com
SUMMARY:Deliver your Fair Quilt Entries
DESCRIPTION:If you entered a quilt in the Nevada County Fair it must be dropped off at Ponderosa Hall between 1:00 and 6:00pm.\nMore information at: \nhttps://nevadacountyfair.com/wp-content/uploads/2024/05/2024-CompetitionHandbook_for-web-only-NevCoFair_.pdf
URL:https://pinetreequiltguild.com/event/nc-fair-quilt-entries-due/
LOCATION:Nevada County Fairgrounds\, CA\, United States
CATEGORIES:NC Fair
ORGANIZER;CN="Holly Miner":MAILTO:hollyminer@aol.com
END:VEVENT
BEGIN:VEVENT
DTSTART;TZID=America/Los_Angeles:20240725T090000
DTEND;TZID=America/Los_Angeles:20240725T140000
DTSTAMP:20260419T101310
CREATED:20240201T214210Z
LAST-MODIFIED:20240220T195537Z
UID:10000229-1721898000-1721916000@pinetreequiltguild.com
SUMMARY:Quilting 101
DESCRIPTION:
URL:https://pinetreequiltguild.com/event/community-service-7/2024-07-25/
LOCATION:Sierra Presbyterian Church\, 175 Ridge Road\, Nevada City
CATEGORIES:Activities,Quilting 101
GEO:39.2484934;-121.0267459
X-APPLE-STRUCTURED-LOCATION;VALUE=URI;X-ADDRESS=Sierra Presbyterian Church 175 Ridge Road Nevada City;X-APPLE-RADIUS=500;X-TITLE=175 Ridge Road:geo:-121.0267459,39.2484934
END:VEVENT
BEGIN:VEVENT
DTSTART;TZID=America/Los_Angeles:20240731T100000
DTEND;TZID=America/Los_Angeles:20240731T140000
DTSTAMP:20260419T101310
CREATED:20240604T230158Z
LAST-MODIFIED:20240711T204027Z
UID:10000384-1722420000-1722434400@pinetreequiltguild.com
SUMMARY:NC Fair Judging
DESCRIPTION:The NC Fair changed the date from July 24 to July 31. \nIf you have never attended a quilt judging\, come to Ponderosa Hall to observe the process. The judges speak their comments so those in the room can hear and learn. There is a break for lunch so if you want to stay all day bring your lunch and beverage. Hopefully\, the gate near Ponderosa Hall will be open for parking.
URL:https://pinetreequiltguild.com/event/nc-fair-judging/
LOCATION:Nevada County Fairgrounds\, CA\, United States
CATEGORIES:NC Fair
ORGANIZER;CN="Holly Miner":MAILTO:hollyminer@aol.com
END:VEVENT
END:VCALENDAR