BEGIN:VCALENDAR
VERSION:2.0
PRODID:-//Pine Tree Quilt Guild of Nevada County - ECPv6.15.20//NONSGML v1.0//EN
CALSCALE:GREGORIAN
METHOD:PUBLISH
X-WR-CALNAME:Pine Tree Quilt Guild of Nevada County
X-ORIGINAL-URL:https://pinetreequiltguild.com
X-WR-CALDESC:Events for Pine Tree Quilt Guild of Nevada County
REFRESH-INTERVAL;VALUE=DURATION:PT1H
X-Robots-Tag:noindex
X-PUBLISHED-TTL:PT1H
BEGIN:VTIMEZONE
TZID:America/Los_Angeles
BEGIN:DAYLIGHT
TZOFFSETFROM:-0800
TZOFFSETTO:-0700
TZNAME:PDT
DTSTART:20230312T100000
END:DAYLIGHT
BEGIN:STANDARD
TZOFFSETFROM:-0700
TZOFFSETTO:-0800
TZNAME:PST
DTSTART:20231105T090000
END:STANDARD
BEGIN:DAYLIGHT
TZOFFSETFROM:-0800
TZOFFSETTO:-0700
TZNAME:PDT
DTSTART:20240310T100000
END:DAYLIGHT
BEGIN:STANDARD
TZOFFSETFROM:-0700
TZOFFSETTO:-0800
TZNAME:PST
DTSTART:20241103T090000
END:STANDARD
BEGIN:DAYLIGHT
TZOFFSETFROM:-0800
TZOFFSETTO:-0700
TZNAME:PDT
DTSTART:20250309T100000
END:DAYLIGHT
BEGIN:STANDARD
TZOFFSETFROM:-0700
TZOFFSETTO:-0800
TZNAME:PST
DTSTART:20251102T090000
END:STANDARD
END:VTIMEZONE
BEGIN:VEVENT
DTSTART;TZID=America/Los_Angeles:20240912T150000
DTEND;TZID=America/Los_Angeles:20240912T170000
DTSTAMP:20260419T091511
CREATED:20240909T165453Z
LAST-MODIFIED:20240909T165453Z
UID:10000393-1726153200-1726160400@pinetreequiltguild.com
SUMMARY:Board Meeting - Live and Zoom
DESCRIPTION:
URL:https://pinetreequiltguild.com/event/board-meeting-live-and-zoom/
LOCATION:Ben Franklin Community Room\, 598 Sutton Way\, Grass Valley\, CA\, 95945\, United States
GEO:39.233208;-121.0381103
X-APPLE-STRUCTURED-LOCATION;VALUE=URI;X-ADDRESS=Ben Franklin Community Room 598 Sutton Way Grass Valley CA 95945 United States;X-APPLE-RADIUS=500;X-TITLE=598 Sutton Way:geo:-121.0381103,39.233208
END:VEVENT
END:VCALENDAR